BEGIN:VCALENDAR
VERSION:2.0
PRODID:-//wp-events-plugin.com//7.2.2.1//EN
TZID:Europe/Paris
X-WR-TIMEZONE:Europe/Paris
BEGIN:VEVENT
UID:281@cafe-eaux-sauvages.fr
DTSTART;TZID=Europe/Paris:20260619T190000
DTEND;TZID=Europe/Paris:20260619T230000
DTSTAMP:20260422T151438Z
URL:https://cafe-eaux-sauvages.fr/evenements/bieres-party/
SUMMARY:Bières Party !
DESCRIPTION:\n\nBières party\nLes bières locales sont à l’honneur !\nA
 u programme :\n\n 	Un galopin de bière dégustation offert par personne\n
  	Musique et bonne humeur\n 	Planche apéro proposée à la vente (réserv
 ation possible en bas de page)\n\n
ATTACH;FMTTYPE=image/jpeg:https://cafe-eaux-sauvages.fr/wp-content/uploads
 /2026/04/pexels-donovan-kelly-110228397-29290422-scaled.jpg
CATEGORIES:Adultes,Evènements/Concerts,Restauration/Brunch,Tous les
 prix,Tous Publics,Tous types d'évènements
END:VEVENT
BEGIN:VTIMEZONE
TZID:Europe/Paris
X-LIC-LOCATION:Europe/Paris
BEGIN:DAYLIGHT
DTSTART:20260329T030000
TZOFFSETFROM:+0100
TZOFFSETTO:+0200
TZNAME:CEST
END:DAYLIGHT
END:VTIMEZONE
END:VCALENDAR