BEGIN:VCALENDAR
VERSION:2.0
PRODID:-//wp-events-plugin.com//7.2.2.1//EN
TZID:Europe/Paris
X-WR-TIMEZONE:Europe/Paris
BEGIN:VEVENT
UID:282@cafe-eaux-sauvages.fr
DTSTART;TZID=Europe/Paris:20260626T190000
DTEND;TZID=Europe/Paris:20260626T230000
DTSTAMP:20260422T153536Z
URL:https://cafe-eaux-sauvages.fr/evenements/blindtest-musique-special-ete
 -2-2/
SUMMARY:BlindTest MUSIQUE spécial ÉTÉ 2/2
DESCRIPTION:\n\nBLINDTEST Musique spécial "Été" 2/2\nPour cette 7ème é
 dition\, on vous réserve un blindtest chaud chaud &amp\; ensablé !\nà b
 ase de Tube de l'été 70\, 80\, 90\, 2000 etc. &amp\; chansons endiablée
 s !\n&nbsp\;\n\n&nbsp\;\n1 tournée offerte (desserts ou boissons) à la t
 able gagnante ! \nA vos agendas pour ce 7 ème BLIND TEST original !\nAu 
 Café des Eaux Sauvages !\n\n\n\n 	19h Repas (sur réservation/bas de page
 ) Plat toujours entre 14 et 17 euros\n 	20H30 Blindtest des Eaux Sauvages 
 (sans réservation) Gratuit !\n\n(les groupes de + de 6 personnes devront 
 former 2 groupes. Merci !)\n&nbsp\;\n\n&nbsp\;\n\n&nbsp\;\n- Paiement rest
 o sur place le jour de l’événement -\nNous sommes un établissement à
  taille humaine. Votre réservation nous permet de gérer nos stocks\, év
 iter le gaspillage\, anticiper votre venue ! Merci de nous contacter au mo
 ins 2 jours avant l'événement si vous souhaitez annuler votre réservati
 on.\n\n
ATTACH;FMTTYPE=image/jpeg:https://cafe-eaux-sauvages.fr/wp-content/uploads
 /2026/04/Music-Event-Facebook-Post-e1776872233202.jpg
CATEGORIES:+ de
 10€,Adultes,Enfants/Ados,Evènements/Concerts,Gratuit,Mini prix : max
 10€,Restauration/Brunch,Tous les prix,Tous Publics,Tous types
 d'évènements
END:VEVENT
BEGIN:VTIMEZONE
TZID:Europe/Paris
X-LIC-LOCATION:Europe/Paris
BEGIN:DAYLIGHT
DTSTART:20260329T030000
TZOFFSETFROM:+0100
TZOFFSETTO:+0200
TZNAME:CEST
END:DAYLIGHT
END:VTIMEZONE
END:VCALENDAR