BEGIN:VCALENDAR
VERSION:2.0
PRODID:-//wp-events-plugin.com//7.2.2.1//EN
TZID:Europe/Paris
X-WR-TIMEZONE:Europe/Paris
BEGIN:VEVENT
UID:277@cafe-eaux-sauvages.fr
DTSTART;TZID=Europe/Paris:20260620T190000
DTEND;TZID=Europe/Paris:20260620T230000
DTSTAMP:20260422T092246Z
URL:https://cafe-eaux-sauvages.fr/evenements/concert-%e2%b8%b1-gaston-cout
 e-par/
SUMMARY:CONCERT ⸱ LECTURE Chansons & Textes de Gaston Couté
DESCRIPTION:\nProgrammation de la soirée :\n\n\n 	à partir de 19h REPAS S
 UR RESA (bas de page)\n 	20h30 CONCERT - LECTURE Chansons &amp\; Textes de
  Gaston Couté  !! en PARTICIPATION LIBRE (sans réservation) au profit d
 e l'association LA RESISTANCE DES BOIS\n\n&nbsp\;\nCONCERT-LECTURE Chanson
 s &amp\; Textes de Gaston Couté \nGaston Couté (1880-1911) était poèt
 e paysan\, libertaire\, originaire de la Beauce\, \nexprimant en patois ce
 tte révolte incisive\, salutaire et plus que jamais d’actualité !\n&n
 bsp\;\nViolon :                Marie Cantin\nFlûte :        
           Laure Meneau\nAccordéon :         Gérard Gaye\nChant
  :                 Pierre Bazola\nDiseur et chant :   Dominique
  Glasman\nDiseur :                 Jacques.paulevé\n&nbsp\;\nNou
 s avons eu le plaisir d'accueillir l'association La Résistance des Bois l
 ors d'échanges-débat autour de la projection du film LE VIVANT QUI SE DE
 FEND de Vincent Verzat en avril dernier. C'est avec joie et impatience que
  nous organisons ce concert en participation libre au bénéfice de cette 
 association engagée et nécessaire. Vous pouvez découvrir leur associati
 on dans ce teaser de Jim Leblais : Ici ! \n\n"La Résistance des Bois\, e
 st un association visant à défendre les mondes de la forêt (savoirs-fai
 re\, métiers\, symbolique et milieux vivants) face à la "machine industr
 ielle" qui se déchaine de plus en plus et qui est\, à chaque fois\, pré
 sentée comme l'unique voie viable et raisonnable. (Ce qui est absurde\, m
 ais chuuuut.) La Résistance des Bois\, c’est la tentative d’une autre
  voie : celle d’un équilibre entre protection et production\, entre sav
 oirs-faire du passé et nécessité du présent. C’est d’ouvrir d’au
 tres imaginaires autour de la forêt et de prouver qu’autre chose est po
 ssible."\n&nbsp\;\n\n\n\n\n\n&nbsp\;\n\n\n&nbsp\;\n- Paiement sur place le
  jour de l’événement -\nNous sommes un établissement à taille humain
 e. Votre réservation nous permet de gérer nos stocks\, éviter le gaspil
 lage\, anticiper votre venue ! Merci de nous contacter au moins 2 jours av
 ant l'événement si vous souhaitez annuler votre réservation.\n
ATTACH;FMTTYPE=image/jpeg:https://cafe-eaux-sauvages.fr/wp-content/uploads
 /2026/04/Capture-decran-2026-04-22-104147.png
CATEGORIES:+ de 10€,Adultes,Enfants/Ados,Evènements/Concerts,Mini prix
 : max 10€,Participation libre,Restauration/Brunch,Tous les prix,Tous
 Publics,Tous types d'évènements
LOCATION:Café des Eaux Sauvages\, 58 Route de Charavines\, Bilieu\, 38850\
 , France
X-APPLE-STRUCTURED-LOCATION;VALUE=URI;X-ADDRESS=58 Route de Charavines\, Bi
 lieu\, 38850\, France;X-APPLE-RADIUS=100;X-TITLE=Café des Eaux Sauvages:g
 eo:0,0
END:VEVENT
BEGIN:VTIMEZONE
TZID:Europe/Paris
X-LIC-LOCATION:Europe/Paris
BEGIN:DAYLIGHT
DTSTART:20260329T030000
TZOFFSETFROM:+0100
TZOFFSETTO:+0200
TZNAME:CEST
END:DAYLIGHT
END:VTIMEZONE
END:VCALENDAR