BEGIN:VCALENDAR
VERSION:2.0
PRODID:-//wp-events-plugin.com//7.2.2.1//EN
TZID:Europe/Paris
X-WR-TIMEZONE:Europe/Paris
BEGIN:VEVENT
UID:280@cafe-eaux-sauvages.fr
DTSTART;TZID=Europe/Paris:20260624T103000
DTEND;TZID=Europe/Paris:20260624T113000
DTSTAMP:20260422T095854Z
URL:https://cafe-eaux-sauvages.fr/evenements/spectacle-collaboratif-musica
 l-jeune-public-quelle-salade/
SUMMARY:SPECTACLE COLLABORATIF & MUSICAL • JEUNE PUBLIC • QUELLE SALADE
  !
DESCRIPTION:[embed]https://www.youtube.com/watch?v=69Xujayt-PE[/embed]\n\n&
 nbsp\;\nSPECTACLE COLLABORATIF &amp\; MUSICAL\npour toute la famille\n&nbs
 p\;\nQuelle sAlaDe !\nUne scénographie atypique - Une déco très graphiq
 ue - Des musiques fantastiques \n\nUn spectacle collaboratif et musical à
  vivre les yeux dans les yeux ...\nÀ partir de 6 mois !\n"Quand Pépin a
  une p’tite faim\, Bidule a un p’tit creux… Et si ça gargouille\,
  il faut se mettre à la tambouille ! Je mangerais bien... Une salade de f
 ruits ! Pomme\, fraise\, cerise\, kiwi\, ça chatouille les papilles et ç
 a raconte des souvenirs à déguster en bonne compagnie. Alors on vous inv
 ite en promenade puis en cuisine afin d'imaginer une recette toute en sons
 \, en mouvements\, en images et en saveurs pour concocter tous ensemble un
 e jolie salade de fruits ! Balade au verger\, choix des fruits\, cueillett
 e\, épluchage\, découpe\, mélange\, assaisonnement ... Un moment partag
 é sous forme de CHANSONS\, comptines gestuées ou signées et jeux d'i
 mitation\, pour finir en une grande ronde tous ensemble et fêter toutes 
 les saveurs de notre salade de fruits imaginaire. "\nCie La Baraque à Plu
 mes\n&nbsp\;\n\n 	\nSpectacle à 10h30 • Merci d’arriver à 10h si vou
 s souhaitez prendre des consommations avant • Merci d’arriver au moins
  10 min avant le début du spectacle.\n\n 	\nSUR RESERVATION ! (bas de pag
 e)\n\n 	\nPrix : 8€ -10 ans // 10€ les autres\n\n 	\nATTENTION : seule
 ment 40 places / durée 30min / dès 6 mois\n\n 	\nPossibilité de se rest
 aurer à partir de 12h\n\n\n\n&nbsp\;\n\n&nbsp\;\n\n    \n\n&nbsp\;\n\n&nb
 sp\;\n\n&nbsp\;\n\n&nbsp\;\n\n&nbsp\;
ATTACH;FMTTYPE=image/jpeg:https://cafe-eaux-sauvages.fr/wp-content/uploads
 /2026/04/Capture-decran-2026-04-22-113604.png
CATEGORIES:+ de
 10€,Adultes,Ateliers/Activités,Enfants/Ados,Evènements/Concerts,Mini
 prix : max 10€,Restauration/Brunch,Tous les prix,Tous Publics,Tous types
 d'évènements
END:VEVENT
BEGIN:VTIMEZONE
TZID:Europe/Paris
X-LIC-LOCATION:Europe/Paris
BEGIN:DAYLIGHT
DTSTART:20260329T030000
TZOFFSETFROM:+0100
TZOFFSETTO:+0200
TZNAME:CEST
END:DAYLIGHT
END:VTIMEZONE
END:VCALENDAR